BEGIN:VCALENDAR
VERSION:2.0
PRODID:-//ChamberMaster//Event Calendar 2.0//EN
METHOD:PUBLISH
X-PUBLISHED-TTL:P3D
REFRESH-INTERVAL:P3D
CALSCALE:GREGORIAN
BEGIN:VEVENT
DTSTART:20251114T000000Z
DTEND:20251114T030000Z
X-MICROSOFT-CDO-ALLDAYEVENT:FALSE
SUMMARY:16th Annual Wine and Dine with Hospice
DESCRIPTION:Wine and Dine with Hospice is a fundraiser that supports the Hospice House. Sample a huge selection of wines and spirits while sampling food items from local restaurants.  There will be a silent and live auction for your shopping fun\, all while supporting a worthy cause.
X-ALT-DESC;FMTTYPE=text/html:Wine and Dine with Hospice is a fundraiser that supports the Hospice House. Sample a huge selection of wines and spirits while sampling food items from local restaurants.&nbsp\; There will be a silent and live auction for your shopping fun\, all while supporting a worthy cause.
LOCATION:Maritime Museum 133 Mabel Dr Madisonville\, LA 70447
UID:e.1377.10712
SEQUENCE:3
DTSTAMP:20260426T001218Z
URL:https://business.sttammanychamber.org/events/details/16th-annual-wine-and-dine-with-hospice-10712
END:VEVENT

END:VCALENDAR
