BEGIN:VCALENDAR
VERSION:2.0
PRODID:-//ChamberMaster//Event Calendar 2.0//EN
METHOD:PUBLISH
X-PUBLISHED-TTL:P3D
REFRESH-INTERVAL:P3D
CALSCALE:GREGORIAN
BEGIN:VEVENT
DTSTART:20021102T140000Z
DTEND:20021102T230000Z
X-MICROSOFT-CDO-ALLDAYEVENT:FALSE
SUMMARY:Board of Directors Planning Retreat 2002
DESCRIPTION:
X-ALT-DESC;FMTTYPE=text/html:
LOCATION:Money Hill Golf & Country Club
UID:e.1377.100
SEQUENCE:3
DTSTAMP:20260423T101805Z
URL:https://business.sttammanychamber.org/events/details/board-of-directors-planning-retreat-2002-11-02-2002-100
END:VEVENT

END:VCALENDAR
