BEGIN:VCALENDAR
VERSION:2.0
PRODID:-//ChamberMaster//Event Calendar 2.0//EN
METHOD:PUBLISH
X-PUBLISHED-TTL:P3D
REFRESH-INTERVAL:P3D
CALSCALE:GREGORIAN
BEGIN:VEVENT
DTSTART:20010815T223000Z
DTEND:20010816T003000Z
X-MICROSOFT-CDO-ALLDAYEVENT:FALSE
SUMMARY:Business After Hours-August 01
DESCRIPTION:
X-ALT-DESC;FMTTYPE=text/html:
LOCATION:Mele Printing
UID:e.1377.22
SEQUENCE:3
DTSTAMP:20260424T060830Z
URL:https://business.sttammanychamber.org/events/details/business-after-hours-august-01-08-15-2001-22
END:VEVENT

END:VCALENDAR
