BEGIN:VCALENDAR
VERSION:2.0
PRODID:-//ChamberMaster//Event Calendar 2.0//EN
METHOD:PUBLISH
X-PUBLISHED-TTL:P3D
REFRESH-INTERVAL:P3D
CALSCALE:GREGORIAN
BEGIN:VEVENT
DTSTART:20011219T233000Z
DTEND:20011220T013000Z
X-MICROSOFT-CDO-ALLDAYEVENT:FALSE
SUMMARY:Business After Hours-December 01
DESCRIPTION:
X-ALT-DESC;FMTTYPE=text/html:
LOCATION:Hibernia National Bank
UID:e.1377.26
SEQUENCE:3
DTSTAMP:20260424T020940Z
URL:https://business.sttammanychamber.org/events/details/business-after-hours-december-01-12-19-2001-26
END:VEVENT

END:VCALENDAR
