BEGIN:VCALENDAR
VERSION:2.0
PRODID:-//ChamberMaster//Event Calendar 2.0//EN
METHOD:PUBLISH
X-PUBLISHED-TTL:P3D
REFRESH-INTERVAL:P3D
CALSCALE:GREGORIAN
BEGIN:VEVENT
DTSTART:20030219T233000Z
DTEND:20030220T013000Z
X-MICROSOFT-CDO-ALLDAYEVENT:FALSE
SUMMARY:Business After Hours-Feb 03
DESCRIPTION:
X-ALT-DESC;FMTTYPE=text/html:
LOCATION:
UID:e.1377.84
SEQUENCE:3
DTSTAMP:20260423T054926Z
URL:https://business.sttammanychamber.org/events/details/business-after-hours-feb-03-02-19-2003-84
END:VEVENT

END:VCALENDAR
