BEGIN:VCALENDAR
VERSION:2.0
PRODID:-//ChamberMaster//Event Calendar 2.0//EN
METHOD:PUBLISH
X-PUBLISHED-TTL:P3D
REFRESH-INTERVAL:P3D
CALSCALE:GREGORIAN
BEGIN:VEVENT
DTSTART:20050216T233000Z
DTEND:20050217T013000Z
X-MICROSOFT-CDO-ALLDAYEVENT:FALSE
SUMMARY:Business After Hours-Feb 05
DESCRIPTION:
X-ALT-DESC;FMTTYPE=text/html:
LOCATION:Louisiana Heart Hospital
UID:e.1377.166
SEQUENCE:3
DTSTAMP:20260421T190213Z
URL:https://business.sttammanychamber.org/events/details/business-after-hours-feb-05-02-16-2005-166
END:VEVENT

END:VCALENDAR
