BEGIN:VCALENDAR
VERSION:2.0
PRODID:-//ChamberMaster//Event Calendar 2.0//EN
METHOD:PUBLISH
X-PUBLISHED-TTL:P3D
REFRESH-INTERVAL:P3D
CALSCALE:GREGORIAN
BEGIN:VEVENT
DTSTART:20040616T223000Z
DTEND:20040617T003000Z
X-MICROSOFT-CDO-ALLDAYEVENT:FALSE
SUMMARY:Business After Hours-June 04
DESCRIPTION:
X-ALT-DESC;FMTTYPE=text/html:
LOCATION:Kids Furniture
UID:e.1377.123
SEQUENCE:3
DTSTAMP:20260422T081326Z
URL:https://business.sttammanychamber.org/events/details/business-after-hours-june-04-06-16-2004-123
END:VEVENT

END:VCALENDAR
