BEGIN:VCALENDAR
VERSION:2.0
PRODID:-//ChamberMaster//Event Calendar 2.0//EN
METHOD:PUBLISH
X-PUBLISHED-TTL:P3D
REFRESH-INTERVAL:P3D
CALSCALE:GREGORIAN
BEGIN:VEVENT
DTSTART:20010620T223000Z
DTEND:20010621T003000Z
X-MICROSOFT-CDO-ALLDAYEVENT:FALSE
SUMMARY:Business After Hours-June01
DESCRIPTION:
X-ALT-DESC;FMTTYPE=text/html:
LOCATION:Osbon Place
UID:e.1377.18
SEQUENCE:3
DTSTAMP:20260424T095221Z
URL:https://business.sttammanychamber.org/events/details/business-after-hours-june01-06-20-2001-18
END:VEVENT

END:VCALENDAR
