BEGIN:VCALENDAR
VERSION:2.0
PRODID:-//ChamberMaster//Event Calendar 2.0//EN
METHOD:PUBLISH
X-PUBLISHED-TTL:P3D
REFRESH-INTERVAL:P3D
CALSCALE:GREGORIAN
BEGIN:VEVENT
DTSTART:20010321T233000Z
DTEND:20010322T013000Z
X-MICROSOFT-CDO-ALLDAYEVENT:FALSE
SUMMARY:Business After Hours-Mar01
DESCRIPTION:
X-ALT-DESC;FMTTYPE=text/html:
LOCATION:Lakeview Regional Medical Center
UID:e.1377.5
SEQUENCE:3
DTSTAMP:20260424T132520Z
URL:https://business.sttammanychamber.org/events/details/business-after-hours-mar01-03-21-2001-5
END:VEVENT

END:VCALENDAR
