BEGIN:VCALENDAR
VERSION:2.0
PRODID:-//ChamberMaster//Event Calendar 2.0//EN
METHOD:PUBLISH
X-PUBLISHED-TTL:P3D
REFRESH-INTERVAL:P3D
CALSCALE:GREGORIAN
BEGIN:VEVENT
DTSTART:20050316T233000Z
DTEND:20050317T013000Z
X-MICROSOFT-CDO-ALLDAYEVENT:FALSE
SUMMARY:Business After Hours-March 05
DESCRIPTION:
X-ALT-DESC;FMTTYPE=text/html:
LOCATION:Alltel
UID:e.1377.173
SEQUENCE:3
DTSTAMP:20260421T174042Z
URL:https://business.sttammanychamber.org/events/details/business-after-hours-march-05-03-16-2005-173
END:VEVENT

END:VCALENDAR
