BEGIN:VCALENDAR
VERSION:2.0
PRODID:-//ChamberMaster//Event Calendar 2.0//EN
METHOD:PUBLISH
X-PUBLISHED-TTL:P3D
REFRESH-INTERVAL:P3D
CALSCALE:GREGORIAN
BEGIN:VEVENT
DTSTART:20020515T223000Z
DTEND:20020516T003000Z
X-MICROSOFT-CDO-ALLDAYEVENT:FALSE
SUMMARY:Business After Hours-May 02
DESCRIPTION:
X-ALT-DESC;FMTTYPE=text/html:
LOCATION:Hancock Bank
UID:e.1377.49
SEQUENCE:3
DTSTAMP:20260423T181935Z
URL:https://business.sttammanychamber.org/events/details/business-after-hours-may-02-05-15-2002-49
END:VEVENT

END:VCALENDAR
