BEGIN:VCALENDAR
VERSION:2.0
PRODID:-//ChamberMaster//Event Calendar 2.0//EN
METHOD:PUBLISH
X-PUBLISHED-TTL:P3D
REFRESH-INTERVAL:P3D
CALSCALE:GREGORIAN
BEGIN:VEVENT
DTSTART:20011114T233000Z
DTEND:20011115T013000Z
X-MICROSOFT-CDO-ALLDAYEVENT:FALSE
SUMMARY:Business After Hours-November 01
DESCRIPTION:
X-ALT-DESC;FMTTYPE=text/html:
LOCATION:Hugh's Wine Cellar/Strawberry Patch
UID:e.1377.25
SEQUENCE:3
DTSTAMP:20260424T020927Z
URL:https://business.sttammanychamber.org/events/details/business-after-hours-november-01-11-14-2001-25
END:VEVENT

END:VCALENDAR
