BEGIN:VCALENDAR
VERSION:2.0
PRODID:-//ChamberMaster//Event Calendar 2.0//EN
METHOD:PUBLISH
X-PUBLISHED-TTL:P3D
REFRESH-INTERVAL:P3D
CALSCALE:GREGORIAN
BEGIN:VEVENT
DTSTART:20021120T233000Z
DTEND:20021121T013000Z
X-MICROSOFT-CDO-ALLDAYEVENT:FALSE
SUMMARY:Business After Hours-November 02
DESCRIPTION:
X-ALT-DESC;FMTTYPE=text/html:
LOCATION:ST. Tammany PArish Hospital
UID:e.1377.66
SEQUENCE:3
DTSTAMP:20260423T101638Z
URL:https://business.sttammanychamber.org/events/details/business-after-hours-november-02-11-20-2002-66
END:VEVENT

END:VCALENDAR
