BEGIN:VCALENDAR
VERSION:2.0
PRODID:-//ChamberMaster//Event Calendar 2.0//EN
METHOD:PUBLISH
X-PUBLISHED-TTL:P3D
REFRESH-INTERVAL:P3D
CALSCALE:GREGORIAN
BEGIN:VEVENT
DTSTART:20031112T233000Z
DTEND:20031113T013000Z
X-MICROSOFT-CDO-ALLDAYEVENT:FALSE
SUMMARY:Business After Hours-November 03
DESCRIPTION:
X-ALT-DESC;FMTTYPE=text/html:
LOCATION:
UID:e.1377.93
SEQUENCE:3
DTSTAMP:20260422T163442Z
URL:https://business.sttammanychamber.org/events/details/business-after-hours-november-03-11-12-2003-93
END:VEVENT

END:VCALENDAR
