BEGIN:VCALENDAR
VERSION:2.0
PRODID:-//ChamberMaster//Event Calendar 2.0//EN
METHOD:PUBLISH
X-PUBLISHED-TTL:P3D
REFRESH-INTERVAL:P3D
CALSCALE:GREGORIAN
BEGIN:VEVENT
DTSTART:20041110T233000Z
DTEND:20041111T013000Z
X-MICROSOFT-CDO-ALLDAYEVENT:FALSE
SUMMARY:Business After Hours-November 04
DESCRIPTION:
X-ALT-DESC;FMTTYPE=text/html:
LOCATION:Hancock Bank
UID:e.1377.137
SEQUENCE:3
DTSTAMP:20260421T231822Z
URL:https://business.sttammanychamber.org/events/details/business-after-hours-november-04-11-10-2004-137
END:VEVENT

END:VCALENDAR
