BEGIN:VCALENDAR
VERSION:2.0
PRODID:-//ChamberMaster//Event Calendar 2.0//EN
METHOD:PUBLISH
X-PUBLISHED-TTL:P3D
REFRESH-INTERVAL:P3D
CALSCALE:GREGORIAN
BEGIN:VEVENT
DTSTART:20010919T223000Z
DTEND:20010920T003000Z
X-MICROSOFT-CDO-ALLDAYEVENT:FALSE
SUMMARY:Business After Hours-September 01
DESCRIPTION:
X-ALT-DESC;FMTTYPE=text/html:
LOCATION:Cypress Properties
UID:e.1377.23
SEQUENCE:3
DTSTAMP:20260424T060920Z
URL:https://business.sttammanychamber.org/events/details/business-after-hours-september-01-09-19-2001-23
END:VEVENT

END:VCALENDAR
