BEGIN:VCALENDAR
VERSION:2.0
PRODID:-//ChamberMaster//Event Calendar 2.0//EN
METHOD:PUBLISH
X-PUBLISHED-TTL:P3D
REFRESH-INTERVAL:P3D
CALSCALE:GREGORIAN
BEGIN:VEVENT
DTSTART:20030917T223000Z
DTEND:20030918T003000Z
X-MICROSOFT-CDO-ALLDAYEVENT:FALSE
SUMMARY:Business After Hours-September 03
DESCRIPTION:
X-ALT-DESC;FMTTYPE=text/html:
LOCATION:
UID:e.1377.91
SEQUENCE:3
DTSTAMP:20260422T191143Z
URL:https://business.sttammanychamber.org/events/details/business-after-hours-september-03-09-17-2003-91
END:VEVENT

END:VCALENDAR
