BEGIN:VCALENDAR
VERSION:2.0
PRODID:-//ChamberMaster//Event Calendar 2.0//EN
METHOD:PUBLISH
X-PUBLISHED-TTL:P3D
REFRESH-INTERVAL:P3D
CALSCALE:GREGORIAN
BEGIN:VEVENT
DTSTART:20010411T130000Z
DTEND:20010411T140000Z
X-MICROSOFT-CDO-ALLDAYEVENT:FALSE
SUMMARY:Business Seminar-April 01
DESCRIPTION:
X-ALT-DESC;FMTTYPE=text/html:
LOCATION:Windsor Senior Living Community
UID:e.1377.12
SEQUENCE:3
DTSTAMP:20260424T121352Z
URL:https://business.sttammanychamber.org/events/details/business-seminar-april-01-04-11-2001-12
END:VEVENT

END:VCALENDAR
