BEGIN:VCALENDAR
VERSION:2.0
PRODID:-//ChamberMaster//Event Calendar 2.0//EN
METHOD:PUBLISH
X-PUBLISHED-TTL:P3D
REFRESH-INTERVAL:P3D
CALSCALE:GREGORIAN
BEGIN:VEVENT
DTSTART:20010831T130000Z
DTEND:20010831T140000Z
X-MICROSOFT-CDO-ALLDAYEVENT:FALSE
SUMMARY:Chamber 101-August 01
DESCRIPTION:
X-ALT-DESC;FMTTYPE=text/html:
LOCATION:Audubon Physical Therapy
UID:e.1377.41
SEQUENCE:3
DTSTAMP:20260424T072457Z
URL:https://business.sttammanychamber.org/events/details/chamber-101-august-01-08-31-2001-41
END:VEVENT

END:VCALENDAR
