BEGIN:VCALENDAR
VERSION:2.0
PRODID:-//ChamberMaster//Event Calendar 2.0//EN
METHOD:PUBLISH
X-PUBLISHED-TTL:P3D
REFRESH-INTERVAL:P3D
CALSCALE:GREGORIAN
BEGIN:VEVENT
DTSTART:20030829T130000Z
DTEND:20030829T140000Z
X-MICROSOFT-CDO-ALLDAYEVENT:FALSE
SUMMARY:Chamber 101-August 03
DESCRIPTION:
X-ALT-DESC;FMTTYPE=text/html:
LOCATION:Southern Bridal
UID:e.1377.126
SEQUENCE:3
DTSTAMP:20260422T203926Z
URL:https://business.sttammanychamber.org/events/details/chamber-101-august-03-08-29-2003-126
END:VEVENT

END:VCALENDAR
