BEGIN:VCALENDAR
VERSION:2.0
PRODID:-//ChamberMaster//Event Calendar 2.0//EN
METHOD:PUBLISH
X-PUBLISHED-TTL:P3D
REFRESH-INTERVAL:P3D
CALSCALE:GREGORIAN
BEGIN:VEVENT
DTSTART:20030228T140000Z
DTEND:20030228T150000Z
X-MICROSOFT-CDO-ALLDAYEVENT:FALSE
SUMMARY:Chamber 101-February 03
DESCRIPTION:
X-ALT-DESC;FMTTYPE=text/html:
LOCATION:Northshore Images in Stitches
UID:e.1377.111
SEQUENCE:3
DTSTAMP:20260423T054819Z
URL:https://business.sttammanychamber.org/events/details/chamber-101-february-03-02-28-2003-111
END:VEVENT

END:VCALENDAR
