BEGIN:VCALENDAR
VERSION:2.0
PRODID:-//ChamberMaster//Event Calendar 2.0//EN
METHOD:PUBLISH
X-PUBLISHED-TTL:P3D
REFRESH-INTERVAL:P3D
CALSCALE:GREGORIAN
BEGIN:VEVENT
DTSTART:20030131T140000Z
DTEND:20030131T150000Z
X-MICROSOFT-CDO-ALLDAYEVENT:FALSE
SUMMARY:Chamber 101-January 03
DESCRIPTION:
X-ALT-DESC;FMTTYPE=text/html:
LOCATION:Courtyard by Marriott
UID:e.1377.106
SEQUENCE:3
DTSTAMP:20260423T071413Z
URL:https://business.sttammanychamber.org/events/details/chamber-101-january-03-01-31-2003-106
END:VEVENT

END:VCALENDAR
