BEGIN:VCALENDAR
VERSION:2.0
PRODID:-//ChamberMaster//Event Calendar 2.0//EN
METHOD:PUBLISH
X-PUBLISHED-TTL:P3D
REFRESH-INTERVAL:P3D
CALSCALE:GREGORIAN
BEGIN:VEVENT
DTSTART:20050122T020000Z
DTEND:20050122T030000Z
X-MICROSOFT-CDO-ALLDAYEVENT:FALSE
SUMMARY:Chamber 101 January 05
DESCRIPTION:
X-ALT-DESC;FMTTYPE=text/html:
LOCATION:
UID:e.1377.182
SEQUENCE:3
DTSTAMP:20260421T202551Z
URL:https://business.sttammanychamber.org/events/details/chamber-101-january-05-01-21-2005-182
END:VEVENT

END:VCALENDAR
