BEGIN:VCALENDAR
VERSION:2.0
PRODID:-//ChamberMaster//Event Calendar 2.0//EN
METHOD:PUBLISH
X-PUBLISHED-TTL:P3D
REFRESH-INTERVAL:P3D
CALSCALE:GREGORIAN
BEGIN:VEVENT
DTSTART:20250913T130000Z
DTEND:20250913T150000Z
X-MICROSOFT-CDO-ALLDAYEVENT:FALSE
SUMMARY:Early Birds - 2nd Saturday Bird Walk - Pelican Park Nature Club
DESCRIPTION:Join us for a monthly bird walk around Fontainebleau State Park! All experience levels welcome\, especially newcomers. We will meet near the splashpad area at 8:00. We expect the walk to last around 2 hours. There is a $3 entrance fee into the state park.\n\n\n\n2025 Bird walk dates:\n\n8/9\n\n9/13\n\n10/11\n\n11/8\n\n12/13\n\n\n\nVortex Optics binoculars are available for participants thanks to a generous donation from Sport Optics! Sunscreen\, water\, hiking shoes\, and a hat are recommended for the field trip.\n\n\n\nAccessibility:\n\nThe field trip will take place on flat ground covered in grass or hard packed mud as well as a sandy beach. Fontainebleau State Park has an all-terrain wheelchair available to rent on a first come\, first serve basis. Restrooms are accessible. The parking lot is paved with designated handicap spots. Please don't hesitate to reach out with any accessibility concerns you may have. We are happy to accommodate you to the best of our ability!
X-ALT-DESC;FMTTYPE=text/html:<span style="background-color:rgb(240\, 240\, 240)\; color:rgb(34\, 34\, 34)\; font-family:arial\; font-size:12px">Join us for a monthly bird walk around Fontainebleau State Park! All experience levels welcome\, especially newcomers. We will meet near the splashpad area at 8:00. We expect the walk to last around 2 hours. There is a $3 entrance fee into the state park.</span><br />\n<br />\n<span style="background-color:rgb(240\, 240\, 240)\; color:rgb(34\, 34\, 34)\; font-family:arial\; font-size:12px">2025 Bird walk dates:</span><br />\n<span style="background-color:rgb(240\, 240\, 240)\; color:rgb(34\, 34\, 34)\; font-family:arial\; font-size:12px">8/9</span><br />\n<span style="background-color:rgb(240\, 240\, 240)\; color:rgb(34\, 34\, 34)\; font-family:arial\; font-size:12px">9/13</span><br />\n<span style="background-color:rgb(240\, 240\, 240)\; color:rgb(34\, 34\, 34)\; font-family:arial\; font-size:12px">10/11</span><br />\n<span style="background-color:rgb(240\, 240\, 240)\; color:rgb(34\, 34\, 34)\; font-family:arial\; font-size:12px">11/8</span><br />\n<span style="background-color:rgb(240\, 240\, 240)\; color:rgb(34\, 34\, 34)\; font-family:arial\; font-size:12px">12/13</span><br />\n<br />\n<span style="background-color:rgb(240\, 240\, 240)\; color:rgb(34\, 34\, 34)\; font-family:arial\; font-size:12px">Vortex Optics binoculars are available for participants thanks to a generous donation from Sport Optics! Sunscreen\, water\, hiking shoes\, and a hat are recommended for the field trip.</span><br />\n<br />\n<span style="background-color:rgb(240\, 240\, 240)\; color:rgb(34\, 34\, 34)\; font-family:arial\; font-size:12px">Accessibility:</span><br />\n<span style="background-color:rgb(240\, 240\, 240)\; color:rgb(34\, 34\, 34)\; font-family:arial\; font-size:12px">The field trip will take place on flat ground covered in grass or hard packed mud as well as a sandy beach. Fontainebleau State Park has an all-terrain wheelchair available to rent on a first come\, first serve basis. Restrooms are accessible. The parking lot is paved with designated handicap spots. Please don&#39\;t hesitate to reach out with any accessibility concerns you may have. We are happy to accommodate you to the best of our ability!</span>
LOCATION:Fontainebleau State Park
UID:e.1377.10708
SEQUENCE:3
DTSTAMP:20260426T023647Z
URL:https://business.sttammanychamber.org/events/details/early-birds-2nd-saturday-bird-walk-pelican-park-nature-club-10708
END:VEVENT

END:VCALENDAR
