BEGIN:VCALENDAR
VERSION:2.0
PRODID:-//ChamberMaster//Event Calendar 2.0//EN
METHOD:PUBLISH
X-PUBLISHED-TTL:P3D
REFRESH-INTERVAL:P3D
CALSCALE:GREGORIAN
BEGIN:VEVENT
DTSTART:20020807T163000Z
DTEND:20020807T180000Z
X-MICROSOFT-CDO-ALLDAYEVENT:FALSE
SUMMARY:East Meets West Luncheon-August 03
DESCRIPTION:
X-ALT-DESC;FMTTYPE=text/html:
LOCATION:Trinity's
UID:e.1377.131
SEQUENCE:3
DTSTAMP:20260423T154157Z
URL:https://business.sttammanychamber.org/events/details/east-meets-west-luncheon-august-03-08-07-2002-131
END:VEVENT

END:VCALENDAR
