BEGIN:VCALENDAR
VERSION:2.0
PRODID:-//ChamberMaster//Event Calendar 2.0//EN
METHOD:PUBLISH
X-PUBLISHED-TTL:P3D
REFRESH-INTERVAL:P3D
CALSCALE:GREGORIAN
BEGIN:VEVENT
DTSTART:20030919T170000Z
DTEND:20030920T190000Z
X-MICROSOFT-CDO-ALLDAYEVENT:FALSE
SUMMARY:EXPO 2003
DESCRIPTION:
X-ALT-DESC;FMTTYPE=text/html:
LOCATION:Castine Center
UID:e.1377.120
SEQUENCE:3
DTSTAMP:20260422T191331Z
URL:https://business.sttammanychamber.org/events/details/expo-2003-09-19-2003-120
END:VEVENT

END:VCALENDAR
