BEGIN:VCALENDAR
VERSION:2.0
PRODID:-//ChamberMaster//Event Calendar 2.0//EN
METHOD:PUBLISH
X-PUBLISHED-TTL:P3D
REFRESH-INTERVAL:P3D
CALSCALE:GREGORIAN
BEGIN:VEVENT
DTSTART:20020520T161500Z
DTEND:20020520T230000Z
X-MICROSOFT-CDO-ALLDAYEVENT:FALSE
SUMMARY:Golf Classic-2002
DESCRIPTION:
X-ALT-DESC;FMTTYPE=text/html:
LOCATION:Money Hill Golf & Country Club
UID:e.1377.63
SEQUENCE:3
DTSTAMP:20260423T181715Z
URL:https://business.sttammanychamber.org/events/details/golf-classic-2002-05-20-2002-63
END:VEVENT

END:VCALENDAR
