BEGIN:VCALENDAR
VERSION:2.0
PRODID:-//ChamberMaster//Event Calendar 2.0//EN
METHOD:PUBLISH
X-PUBLISHED-TTL:P3D
REFRESH-INTERVAL:P3D
CALSCALE:GREGORIAN
BEGIN:VEVENT
DTSTART:20030519T153000Z
DTEND:20030519T230000Z
X-MICROSOFT-CDO-ALLDAYEVENT:FALSE
SUMMARY:Golf Classic-2003
DESCRIPTION:
X-ALT-DESC;FMTTYPE=text/html:
LOCATION:Money Hill Golf & Country Club
UID:e.1377.110
SEQUENCE:3
DTSTAMP:20260423T023349Z
URL:https://business.sttammanychamber.org/events/details/golf-classic-2003-05-19-2003-110
END:VEVENT

END:VCALENDAR
