BEGIN:VCALENDAR
VERSION:2.0
PRODID:-//ChamberMaster//Event Calendar 2.0//EN
METHOD:PUBLISH
X-PUBLISHED-TTL:P3D
REFRESH-INTERVAL:P3D
CALSCALE:GREGORIAN
BEGIN:VEVENT
DTSTART:20040510T160000Z
DTEND:20040511T000000Z
X-MICROSOFT-CDO-ALLDAYEVENT:FALSE
SUMMARY:Golf Classic-2004
DESCRIPTION:
X-ALT-DESC;FMTTYPE=text/html:
LOCATION:Beau Chene Country Club
UID:e.1377.162
SEQUENCE:3
DTSTAMP:20260422T081014Z
URL:https://business.sttammanychamber.org/events/details/golf-classic-2004-05-10-2004-162
END:VEVENT

END:VCALENDAR
