BEGIN:VCALENDAR
VERSION:2.0
PRODID:-//ChamberMaster//Event Calendar 2.0//EN
METHOD:PUBLISH
X-PUBLISHED-TTL:P3D
REFRESH-INTERVAL:P3D
CALSCALE:GREGORIAN
BEGIN:VEVENT
DTSTART:20251128T160000Z
DTEND:20251129T030000Z
X-MICROSOFT-CDO-ALLDAYEVENT:FALSE
SUMMARY:Grand Opening Celebration for La Maison du Parrain
DESCRIPTION:La Maison du Parrain invites you to a Grand Opening Celebration\n\n\n\nWe are thrilled to welcome you to this special event\, where you will have the opportunity to experience first-look access to our curated collection of antiques and vintage treasures. Come and discover the unique spirit of La Maison du Parrain as we celebrate together!
X-ALT-DESC;FMTTYPE=text/html:La Maison du Parrain invites you to a <strong>Grand Opening Celebration</strong><br />\n<br />\nWe are thrilled to welcome you to this special event\, where you will have the opportunity to experience first-look access to our curated collection of antiques and vintage treasures. Come and discover the unique spirit of La Maison du Parrain as we celebrate together!
LOCATION:2121 General Pershing St. Mandeville\, LA 70448
UID:e.1377.10791
SEQUENCE:3
DTSTAMP:20260426T012508Z
URL:https://business.sttammanychamber.org/events/details/grand-opening-celebration-for-la-maison-du-parrain-10791
END:VEVENT

END:VCALENDAR
