BEGIN:VCALENDAR
VERSION:2.0
PRODID:-//ChamberMaster//Event Calendar 2.0//EN
METHOD:PUBLISH
X-PUBLISHED-TTL:P3D
REFRESH-INTERVAL:P3D
CALSCALE:GREGORIAN
BEGIN:VEVENT
DTSTART:20251010T160000Z
DTEND:20251010T210000Z
X-MICROSOFT-CDO-ALLDAYEVENT:FALSE
SUMMARY:Holes for Hospice Golf Tournament
DESCRIPTION:Holes for Hospice Golf Tournament is one of 3 events that support the Hospice House.
X-ALT-DESC;FMTTYPE=text/html:Holes for Hospice Golf Tournament is one of 3 events that support the Hospice House.&nbsp\;&nbsp\;
LOCATION:Oak Harbor Golf Club 201 Oak Harbor Blvd. Slidell\, La 70458
UID:e.1377.10711
SEQUENCE:3
DTSTAMP:20260426T013152Z
URL:https://business.sttammanychamber.org/events/details/holes-for-hospice-golf-tournament-10711
END:VEVENT

END:VCALENDAR
