BEGIN:VCALENDAR
VERSION:2.0
PRODID:-//ChamberMaster//Event Calendar 2.0//EN
METHOD:PUBLISH
X-PUBLISHED-TTL:P3D
REFRESH-INTERVAL:P3D
CALSCALE:GREGORIAN
BEGIN:VEVENT
DTSTART:20020126T010000Z
DTEND:20020126T040000Z
X-MICROSOFT-CDO-ALLDAYEVENT:FALSE
SUMMARY:Installation and Awards Banquet-2002
DESCRIPTION:
X-ALT-DESC;FMTTYPE=text/html:
LOCATION:
UID:e.1377.31
SEQUENCE:3
DTSTAMP:20260423T235402Z
URL:https://business.sttammanychamber.org/events/details/installation-and-awards-banquet-2002-01-25-2002-31
END:VEVENT

END:VCALENDAR
