BEGIN:VCALENDAR
VERSION:2.0
PRODID:-//ChamberMaster//Event Calendar 2.0//EN
METHOD:PUBLISH
X-PUBLISHED-TTL:P3D
REFRESH-INTERVAL:P3D
CALSCALE:GREGORIAN
BEGIN:VEVENT
DTSTART:20030118T003000Z
DTEND:20030118T043000Z
X-MICROSOFT-CDO-ALLDAYEVENT:FALSE
SUMMARY:Installation and Awards Banquet-2003
DESCRIPTION:
X-ALT-DESC;FMTTYPE=text/html:
LOCATION:
UID:e.1377.83
SEQUENCE:3
DTSTAMP:20260423T071535Z
URL:https://business.sttammanychamber.org/events/details/installation-and-awards-banquet-2003-01-17-2003-83
END:VEVENT

END:VCALENDAR
