BEGIN:VCALENDAR
VERSION:2.0
PRODID:-//ChamberMaster//Event Calendar 2.0//EN
METHOD:PUBLISH
X-PUBLISHED-TTL:P3D
REFRESH-INTERVAL:P3D
CALSCALE:GREGORIAN
BEGIN:VEVENT
DTSTART:20040110T003000Z
DTEND:20040110T043000Z
X-MICROSOFT-CDO-ALLDAYEVENT:FALSE
SUMMARY:Installation and Awards Banquet-2004
DESCRIPTION:
X-ALT-DESC;FMTTYPE=text/html:
LOCATION:
UID:e.1377.142
SEQUENCE:3
DTSTAMP:20260422T145344Z
URL:https://business.sttammanychamber.org/events/details/installation-and-awards-banquet-2004-01-09-2004-142
END:VEVENT

END:VCALENDAR
