BEGIN:VCALENDAR
VERSION:2.0
PRODID:-//ChamberMaster//Event Calendar 2.0//EN
METHOD:PUBLISH
X-PUBLISHED-TTL:P3D
REFRESH-INTERVAL:P3D
CALSCALE:GREGORIAN
BEGIN:VEVENT
DTSTART:20041204T003000Z
DTEND:20041204T043000Z
X-MICROSOFT-CDO-ALLDAYEVENT:FALSE
SUMMARY:Installation and Awards Banquet-2005
DESCRIPTION:
X-ALT-DESC;FMTTYPE=text/html:
LOCATION:Castine Center
UID:e.1377.170
SEQUENCE:3
DTSTAMP:20260421T214420Z
URL:https://business.sttammanychamber.org/events/details/installation-and-awards-banquet-2005-12-03-2004-170
END:VEVENT

END:VCALENDAR
