BEGIN:VCALENDAR
VERSION:2.0
PRODID:-//ChamberMaster//Event Calendar 2.0//EN
METHOD:PUBLISH
X-PUBLISHED-TTL:P3D
REFRESH-INTERVAL:P3D
CALSCALE:GREGORIAN
BEGIN:VEVENT
DTSTART:20050429T130000Z
DTEND:20050430T020000Z
X-MICROSOFT-CDO-ALLDAYEVENT:FALSE
SUMMARY:Jam Session-April 2005
DESCRIPTION:
X-ALT-DESC;FMTTYPE=text/html:
LOCATION:
UID:e.1377.184
SEQUENCE:3
DTSTAMP:20260421T173929Z
URL:https://business.sttammanychamber.org/events/details/jam-session-april-2005-04-29-2005-184
END:VEVENT

END:VCALENDAR
