BEGIN:VCALENDAR
VERSION:2.0
PRODID:-//ChamberMaster//Event Calendar 2.0//EN
METHOD:PUBLISH
X-PUBLISHED-TTL:P3D
REFRESH-INTERVAL:P3D
CALSCALE:GREGORIAN
BEGIN:VEVENT
DTSTART:20050624T130000Z
DTEND:20050625T020000Z
X-MICROSOFT-CDO-ALLDAYEVENT:FALSE
SUMMARY:Jam Session-June 2005
DESCRIPTION:
X-ALT-DESC;FMTTYPE=text/html:
LOCATION:
UID:e.1377.186
SEQUENCE:3
DTSTAMP:20260421T135212Z
URL:https://business.sttammanychamber.org/events/details/jam-session-june-2005-06-24-2005-186
END:VEVENT

END:VCALENDAR
