BEGIN:VCALENDAR
VERSION:2.0
PRODID:-//ChamberMaster//Event Calendar 2.0//EN
METHOD:PUBLISH
X-PUBLISHED-TTL:P3D
REFRESH-INTERVAL:P3D
CALSCALE:GREGORIAN
BEGIN:VEVENT
DTSTART:20031220T140000Z
DTEND:20031220T150000Z
X-MICROSOFT-CDO-ALLDAYEVENT:FALSE
SUMMARY:Marketing on a Shoestring Budget
DESCRIPTION:
X-ALT-DESC;FMTTYPE=text/html:
LOCATION:Holiday Inn
UID:e.1377.136
SEQUENCE:3
DTSTAMP:20260422T145525Z
URL:https://business.sttammanychamber.org/events/details/marketing-on-a-shoestring-budget-12-20-2003-136
END:VEVENT

END:VCALENDAR
