BEGIN:VCALENDAR
VERSION:2.0
PRODID:-//ChamberMaster//Event Calendar 2.0//EN
METHOD:PUBLISH
X-PUBLISHED-TTL:P3D
REFRESH-INTERVAL:P3D
CALSCALE:GREGORIAN
BEGIN:VEVENT
DTSTART:20261119T143000Z
DTEND:20261119T153000Z
X-MICROSOFT-CDO-ALLDAYEVENT:FALSE
SUMMARY:Maximize Your Membership in Slidell at 520 Old Spanish Trail\, 6th floor conference room
DESCRIPTION:New to the chamber?\n\nEstablished member in need of a refresher?\n\n\nJoin staff and fellow members of the Chamber for an informational orientation to not only familiarize yourself with the many perks of  membership and understand how the Chamber operates\, but to also have an opportunity to meet and network with other Chamber members.\n\n\n\nWe support our member businesses in a variety of ways and want to make certain you're aware of the numerous benefits available to you through your Chamber membership so that you can maximize your investment.
X-ALT-DESC;FMTTYPE=text/html:<div style="text-align: center\;"><strong><span style="font-size: 20px\;">New to the chamber?</span></strong><br />\n<strong><span style="font-size: 20px\;">Established member in need of a refresher?</span></strong></div>\n<br />\n<span style="font-size: 14px\;"><span style="font-family: arial\;">Join staff and fellow members of the Chamber for&nbsp\;an informational orientation&nbsp\;to not only familiarize yourself with the many perks of&nbsp\; membership and understand how the Chamber operates\, but to also have an opportunity to meet and network with other Chamber members.</span><br />\n<br />\n<span style="font-family: arial\;">We support our member businesses in a variety of ways and want to make certain you&#39\;re aware of the numerous benefits available to you through your Chamber membership so that you can maximize your investment.&nbsp\;</span></span>\n\n<div style="text-align: center\;">&nbsp\;\n<div style="text-align: center\;">&nbsp\;</div>\n\n<div style="text-align: center\;">&nbsp\;</div>\n\n<div style="text-align: center\;">&nbsp\;</div>\n</div>\n
LOCATION:Towers Building - 520 Old Spanish Trail - 6th floor conference room Slidell\, LA 70458
UID:e.1377.10766
SEQUENCE:3
DTSTAMP:20260426T001432Z
URL:https://business.sttammanychamber.org/events/details/maximize-your-membership-in-slidell-at-520-old-spanish-trail-6th-floor-conference-room-10766
END:VEVENT

END:VCALENDAR
