BEGIN:VCALENDAR
VERSION:2.0
PRODID:-//ChamberMaster//Event Calendar 2.0//EN
METHOD:PUBLISH
X-PUBLISHED-TTL:P3D
REFRESH-INTERVAL:P3D
CALSCALE:GREGORIAN
BEGIN:VEVENT
DTSTART:20260520T170000Z
DTEND:20260520T190000Z
X-MICROSOFT-CDO-ALLDAYEVENT:FALSE
SUMMARY:May We Celebrate Every Smile
DESCRIPTION:We're planning something worth clearing your calendar for  and trust us\, you won't want to miss it. \n\nMark your calendar for May 20th!\n\nAn unforgettable celebration is in the works filled with great vibes\, even better company\, and a few surprises we're keeping tucked up our sleeve for now \n\nMore details are coming soon\, but for now  consider this your official heads-up to save the date.\n\nGood people. Great energy. A day to remember.\n\nStay tuned we can't wait to celebrate with you!
X-ALT-DESC;FMTTYPE=text/html:<p>We&rsquo\;re planning something worth clearing your calendar for&hellip\; and trust us\, you won&rsquo\;t want to miss it.&nbsp\;</p>\n\n<p><strong>Mark your calendar for May 20th!</strong></p>\n\n<p>An unforgettable celebration is in the works&mdash\;filled with great vibes\, even better company\, and a few surprises we&rsquo\;re keeping tucked up our sleeve for now&nbsp\;</p>\n\n<p>More details are coming soon\, but for now&hellip\; consider this your official heads-up to save the date.</p>\n\n<p>Good people. Great energy. A day to remember.</p>\n\n<p>Stay tuned&mdash\;we can&rsquo\;t wait to celebrate with you!</p>\n
LOCATION:Smile Doctors Orthodontics- Covington 61 Park Place B Covington. LA 70433
UID:e.1377.10891
SEQUENCE:3
DTSTAMP:20260423T035808Z
URL:https://business.sttammanychamber.org/events/details/may-we-celebrate-every-smile-10891
END:VEVENT

END:VCALENDAR
