BEGIN:VCALENDAR
VERSION:2.0
PRODID:-//ChamberMaster//Event Calendar 2.0//EN
METHOD:PUBLISH
X-PUBLISHED-TTL:P3D
REFRESH-INTERVAL:P3D
CALSCALE:GREGORIAN
BEGIN:VEVENT
DTSTART:20260316T180000Z
DTEND:20260316T200000Z
X-MICROSOFT-CDO-ALLDAYEVENT:FALSE
SUMMARY:Medicare Mondays 101: Sirincci Coffee On Robert Blvd
DESCRIPTION:Do you or anyone you know have questions about their Medicare? Are you or a friend turning 65 and need guidance? Come on down to Sirincci Coffee on Robert Blvd for every Monday in March from 1pm to 3pm. Meet me there-gain clarity and peace of mind.
X-ALT-DESC;FMTTYPE=text/html:<span style="color:rgb(8\, 8\, 9)\; font-family:segoe ui historic\,segoe ui\,helvetica\,arial\,sans-serif\; font-size:15px">Do you or anyone you know have questions about their Medicare? Are you or a friend turning 65 and need guidance? Come on down to Sirincci Coffee on Robert Blvd for every Monday in March from 1pm to 3pm. Meet me there-gain clarity and peace of mind.</span>
LOCATION:Sirincci Coffee 791 Robert Blvd Slidell\, LA 70458
UID:e.1377.10865
SEQUENCE:3
DTSTAMP:20260425T191139Z
URL:https://business.sttammanychamber.org/events/details/medicare-mondays-101-sirincci-coffee-on-robert-blvd-10865
END:VEVENT

END:VCALENDAR
