BEGIN:VCALENDAR
VERSION:2.0
PRODID:-//ChamberMaster//Event Calendar 2.0//EN
METHOD:PUBLISH
X-PUBLISHED-TTL:P3D
REFRESH-INTERVAL:P3D
CALSCALE:GREGORIAN
BEGIN:VEVENT
DTSTART:20050708T130000Z
DTEND:20050708T150000Z
X-MICROSOFT-CDO-ALLDAYEVENT:FALSE
SUMMARY:Mega Marketplace-July 05
DESCRIPTION:
X-ALT-DESC;FMTTYPE=text/html:
LOCATION:Holiday Inn
UID:e.1377.202
SEQUENCE:3
DTSTAMP:20260421T123726Z
URL:https://business.sttammanychamber.org/events/details/mega-marketplace-july-05-07-08-2005-202
END:VEVENT

END:VCALENDAR
