BEGIN:VCALENDAR
VERSION:2.0
PRODID:-//ChamberMaster//Event Calendar 2.0//EN
METHOD:PUBLISH
X-PUBLISHED-TTL:P3D
REFRESH-INTERVAL:P3D
CALSCALE:GREGORIAN
BEGIN:VEVENT
DTSTART:20041112T140000Z
DTEND:20041112T160000Z
X-MICROSOFT-CDO-ALLDAYEVENT:FALSE
SUMMARY:Mega Marketplace-November 04
DESCRIPTION:
X-ALT-DESC;FMTTYPE=text/html:
LOCATION:Greater Covington Center
UID:e.1377.172
SEQUENCE:3
DTSTAMP:20260421T231845Z
URL:https://business.sttammanychamber.org/events/details/mega-marketplace-november-04-11-12-2004-172
END:VEVENT

END:VCALENDAR
