BEGIN:VCALENDAR
VERSION:2.0
PRODID:-//ChamberMaster//Event Calendar 2.0//EN
METHOD:PUBLISH
X-PUBLISHED-TTL:P3D
REFRESH-INTERVAL:P3D
CALSCALE:GREGORIAN
BEGIN:VEVENT
DTSTART:20010427T163000Z
DTEND:20010427T180000Z
X-MICROSOFT-CDO-ALLDAYEVENT:FALSE
SUMMARY:Monthly Luncheon-April 01
DESCRIPTION:
X-ALT-DESC;FMTTYPE=text/html:
LOCATION:Benedict's Restaurant
UID:e.1377.8
SEQUENCE:3
DTSTAMP:20260424T110542Z
URL:https://business.sttammanychamber.org/events/details/monthly-luncheon-april-01-04-27-2001-8
END:VEVENT

END:VCALENDAR
