BEGIN:VCALENDAR
VERSION:2.0
PRODID:-//ChamberMaster//Event Calendar 2.0//EN
METHOD:PUBLISH
X-PUBLISHED-TTL:P3D
REFRESH-INTERVAL:P3D
CALSCALE:GREGORIAN
BEGIN:VEVENT
DTSTART:20030430T163000Z
DTEND:20030430T180000Z
X-MICROSOFT-CDO-ALLDAYEVENT:FALSE
SUMMARY:Monthly Luncheon-April 03
DESCRIPTION:
X-ALT-DESC;FMTTYPE=text/html:
LOCATION:
UID:e.1377.109
SEQUENCE:3
DTSTAMP:20260423T023700Z
URL:https://business.sttammanychamber.org/events/details/monthly-luncheon-april-03-04-30-2003-109
END:VEVENT

END:VCALENDAR
