BEGIN:VCALENDAR
VERSION:2.0
PRODID:-//ChamberMaster//Event Calendar 2.0//EN
METHOD:PUBLISH
X-PUBLISHED-TTL:P3D
REFRESH-INTERVAL:P3D
CALSCALE:GREGORIAN
BEGIN:VEVENT
DTSTART:20020828T163000Z
DTEND:20020828T180000Z
X-MICROSOFT-CDO-ALLDAYEVENT:FALSE
SUMMARY:Monthly Luncheon-August 02
DESCRIPTION:
X-ALT-DESC;FMTTYPE=text/html:
LOCATION:
UID:e.1377.68
SEQUENCE:3
DTSTAMP:20260423T142958Z
URL:https://business.sttammanychamber.org/events/details/monthly-luncheon-august-02-08-28-2002-68
END:VEVENT

END:VCALENDAR
