BEGIN:VCALENDAR
VERSION:2.0
PRODID:-//ChamberMaster//Event Calendar 2.0//EN
METHOD:PUBLISH
X-PUBLISHED-TTL:P3D
REFRESH-INTERVAL:P3D
CALSCALE:GREGORIAN
BEGIN:VEVENT
DTSTART:20030227T053000Z
DTEND:20030226T190000Z
X-MICROSOFT-CDO-ALLDAYEVENT:FALSE
SUMMARY:Monthly Luncheon-February 2003
DESCRIPTION:
X-ALT-DESC;FMTTYPE=text/html:
LOCATION:Benedict's
UID:e.1377.103
SEQUENCE:3
DTSTAMP:20260423T054911Z
URL:https://business.sttammanychamber.org/events/details/monthly-luncheon-february-2003-02-26-2003-103
END:VEVENT

END:VCALENDAR
