BEGIN:VCALENDAR
VERSION:2.0
PRODID:-//ChamberMaster//Event Calendar 2.0//EN
METHOD:PUBLISH
X-PUBLISHED-TTL:P3D
REFRESH-INTERVAL:P3D
CALSCALE:GREGORIAN
BEGIN:VEVENT
DTSTART:20070228T173000Z
DTEND:20070228T190000Z
X-MICROSOFT-CDO-ALLDAYEVENT:FALSE
SUMMARY:Monthly Luncheon-February 2007
DESCRIPTION:
X-ALT-DESC;FMTTYPE=text/html:
LOCATION:Holiday Inn
UID:e.1377.244
SEQUENCE:3
DTSTAMP:20260420T112305Z
URL:https://business.sttammanychamber.org/events/details/monthly-luncheon-february-2007-02-28-2007-244
END:VEVENT

END:VCALENDAR
