BEGIN:VCALENDAR
VERSION:2.0
PRODID:-//ChamberMaster//Event Calendar 2.0//EN
METHOD:PUBLISH
X-PUBLISHED-TTL:P3D
REFRESH-INTERVAL:P3D
CALSCALE:GREGORIAN
BEGIN:VEVENT
DTSTART:20010124T173000Z
DTEND:20010124T190000Z
X-MICROSOFT-CDO-ALLDAYEVENT:FALSE
SUMMARY:Monthly Luncheon-Jan 01
DESCRIPTION:
X-ALT-DESC;FMTTYPE=text/html:
LOCATION:Gallagher's On The Lake
UID:e.1377.1
SEQUENCE:3
DTSTAMP:20260424T150324Z
URL:https://business.sttammanychamber.org/events/details/monthly-luncheon-jan-01-01-24-2001-1
END:VEVENT

END:VCALENDAR
