BEGIN:VCALENDAR
VERSION:2.0
PRODID:-//ChamberMaster//Event Calendar 2.0//EN
METHOD:PUBLISH
X-PUBLISHED-TTL:P3D
REFRESH-INTERVAL:P3D
CALSCALE:GREGORIAN
BEGIN:VEVENT
DTSTART:20020130T173000Z
DTEND:20020130T190000Z
X-MICROSOFT-CDO-ALLDAYEVENT:FALSE
SUMMARY:Monthly Luncheon-Jan 02
DESCRIPTION:
X-ALT-DESC;FMTTYPE=text/html:
LOCATION:Holiday Inn
UID:e.1377.51
SEQUENCE:3
DTSTAMP:20260423T235244Z
URL:https://business.sttammanychamber.org/events/details/monthly-luncheon-jan-02-01-30-2002-51
END:VEVENT

END:VCALENDAR
